BEGIN:VCALENDAR
VERSION:2.0
PRODID:-//KC Parent - ECPv6.15.18//NONSGML v1.0//EN
CALSCALE:GREGORIAN
METHOD:PUBLISH
X-ORIGINAL-URL:https://kcparent.com
X-WR-CALDESC:Events for KC Parent
REFRESH-INTERVAL;VALUE=DURATION:PT1H
X-Robots-Tag:noindex
X-PUBLISHED-TTL:PT1H
BEGIN:VTIMEZONE
TZID:America/Denver
BEGIN:DAYLIGHT
TZOFFSETFROM:-0700
TZOFFSETTO:-0600
TZNAME:MDT
DTSTART:20240310T090000
END:DAYLIGHT
BEGIN:STANDARD
TZOFFSETFROM:-0600
TZOFFSETTO:-0700
TZNAME:MST
DTSTART:20241103T080000
END:STANDARD
BEGIN:DAYLIGHT
TZOFFSETFROM:-0700
TZOFFSETTO:-0600
TZNAME:MDT
DTSTART:20250309T090000
END:DAYLIGHT
BEGIN:STANDARD
TZOFFSETFROM:-0600
TZOFFSETTO:-0700
TZNAME:MST
DTSTART:20251102T080000
END:STANDARD
BEGIN:DAYLIGHT
TZOFFSETFROM:-0700
TZOFFSETTO:-0600
TZNAME:MDT
DTSTART:20260308T090000
END:DAYLIGHT
BEGIN:STANDARD
TZOFFSETFROM:-0600
TZOFFSETTO:-0700
TZNAME:MST
DTSTART:20261101T080000
END:STANDARD
END:VTIMEZONE
BEGIN:VEVENT
DTSTART;TZID=America/Denver:20251030T153000
DTEND;TZID=America/Denver:20251030T180000
DTSTAMP:20260420T181617
CREATED:20251015T201548Z
LAST-MODIFIED:20251015T225205Z
UID:10015286-1761838200-1761847200@kcparent.com
SUMMARY:St. Pius X Open House
DESCRIPTION:Join us for a personalized tour to learn more about all St. Pius X has to offer your future high school student! From academics to athletics\, faith focus to college readiness\, SPX is here to guide your student to success in college and beyond. Meet students\, teachers and coaches and even enjoy some of our famous cookies. Pizza and light refreshments will also be provided. \nAll tours will last approximately 45-60 minutes and reservations are recommended.
URL:https://kcparent.com/event/st-pius-x-open-house/
LOCATION:St. Pius X High School\, 1500 NE 42nd Terrace\, Kansas City\, 64116
CATEGORIES:School Open House
ATTACH;FMTTYPE=image/jpeg:https://kcparent.com/wp-content/uploads/2025/10/Open-House-2025.jpg
END:VEVENT
END:VCALENDAR