BEGIN:VCALENDAR
VERSION:2.0
PRODID:-//KC Parent - ECPv6.15.18//NONSGML v1.0//EN
CALSCALE:GREGORIAN
METHOD:PUBLISH
X-ORIGINAL-URL:https://kcparent.com
X-WR-CALDESC:Events for KC Parent
REFRESH-INTERVAL;VALUE=DURATION:PT1H
X-Robots-Tag:noindex
X-PUBLISHED-TTL:PT1H
BEGIN:VTIMEZONE
TZID:America/Denver
BEGIN:DAYLIGHT
TZOFFSETFROM:-0700
TZOFFSETTO:-0600
TZNAME:MDT
DTSTART:20240310T090000
END:DAYLIGHT
BEGIN:STANDARD
TZOFFSETFROM:-0600
TZOFFSETTO:-0700
TZNAME:MST
DTSTART:20241103T080000
END:STANDARD
BEGIN:DAYLIGHT
TZOFFSETFROM:-0700
TZOFFSETTO:-0600
TZNAME:MDT
DTSTART:20250309T090000
END:DAYLIGHT
BEGIN:STANDARD
TZOFFSETFROM:-0600
TZOFFSETTO:-0700
TZNAME:MST
DTSTART:20251102T080000
END:STANDARD
BEGIN:DAYLIGHT
TZOFFSETFROM:-0700
TZOFFSETTO:-0600
TZNAME:MDT
DTSTART:20260308T090000
END:DAYLIGHT
BEGIN:STANDARD
TZOFFSETFROM:-0600
TZOFFSETTO:-0700
TZNAME:MST
DTSTART:20261101T080000
END:STANDARD
BEGIN:DAYLIGHT
TZOFFSETFROM:-0700
TZOFFSETTO:-0600
TZNAME:MDT
DTSTART:20270314T090000
END:DAYLIGHT
BEGIN:STANDARD
TZOFFSETFROM:-0600
TZOFFSETTO:-0700
TZNAME:MST
DTSTART:20271107T080000
END:STANDARD
END:VTIMEZONE
BEGIN:VEVENT
DTSTART;TZID=America/Denver:20260220T123000
DTEND;TZID=America/Denver:20260220T150000
DTSTAMP:20260420T191710
CREATED:20260213T044518Z
LAST-MODIFIED:20260213T044518Z
UID:10022487-1771590600-1771599600@kcparent.com
SUMMARY:Campus Visit Day
DESCRIPTION:Friday\, February 20th\n12:30p.m. – 3:00p.m.\n\nSummit Christian Academy \nField House & Activities Center\n1510 SW Jefferson\nLee’s Summit MO  64081\n\n\nFamilies will have the opportunity to learn all about Summit Christian Academy\, Kindergarten through 12th grade. The day will include an overview of SCA\, school tour specific to your child’s grade\, Q&A panel with teachers\, parents\, students\, and principals.
URL:https://kcparent.com/event/campus-visit-day/
LOCATION:Summit Christian Academy\, 1510 Southwest Jefferson Street\, Lee's Summit\, Missouri\, United States
ATTACH;FMTTYPE=image/webp:https://kcparent.com/wp-content/uploads/2026/02/Web-Home-Page-2.jpg.webp
END:VEVENT
BEGIN:VEVENT
DTSTART;TZID=America/Denver:20260220T083000
DTEND;TZID=America/Denver:20260220T103000
DTSTAMP:20260420T191710
CREATED:20260213T044048Z
LAST-MODIFIED:20260213T044048Z
UID:10022486-1771576200-1771583400@kcparent.com
SUMMARY:Kindergarten Preview Day
DESCRIPTION:Families will have the opportunity to learn all about kindergarten! The morning will include an overview of SCA\, opportunity to observe kindergarten classrooms\, Q&A panel with teachers\, parents\, students\, and principals and school tour.
URL:https://kcparent.com/event/kindergarten-preview-day/
LOCATION:Summit Christian Academy\, 1510 Southwest Jefferson Street\, Lee's Summit\, Missouri\, United States
ATTACH;FMTTYPE=image/jpeg:https://kcparent.com/wp-content/uploads/2026/02/Early-Education-Teacher-Student-e1727901080972.jpg
END:VEVENT
BEGIN:VEVENT
DTSTART;TZID=America/Denver:20260123T083000
DTEND;TZID=America/Denver:20260123T103000
DTSTAMP:20260420T191710
CREATED:20251219T222217Z
LAST-MODIFIED:20251219T222217Z
UID:10017041-1769157000-1769164200@kcparent.com
SUMMARY:Kindergarten Preview Day at Summit Christian Academy
DESCRIPTION:Families will have the opportunity to learn all about Kindergarten at Summit Christian Academy!
URL:https://kcparent.com/event/kindergarten-preview-day-at-summit-christian-academy/
LOCATION:Summit Christian Academy\, 1510 Southwest Jefferson Street\, Lee's Summit\, Missouri\, United States
ATTACH;FMTTYPE=image/jpeg:https://kcparent.com/wp-content/uploads/2025/12/summitchristianacademy.jpg
END:VEVENT
BEGIN:VEVENT
DTSTART;TZID=America/Denver:20251204T083000
DTEND;TZID=America/Denver:20251204T103000
DTSTAMP:20260420T191710
CREATED:20251124T154752Z
LAST-MODIFIED:20251124T154810Z
UID:10016807-1764837000-1764844200@kcparent.com
SUMMARY:Summit Christian Academy’s Early Education Preview Day
DESCRIPTION:Families are invited to explore Summit Christian Academy’s Early Education program during this special preview event on Tuesday\, December 2\, from 8:30 to 10:00 a.m. Guests will visit classrooms\, meet caring teachers\, observe learning in action\, and experience the warm\, Christ-centered environment designed for young learners.
URL:https://kcparent.com/event/summit-christian-academys-early-education-preview-day/
LOCATION:Summit Christian Academy\, 1510 Southwest Jefferson Street\, Lee's Summit\, Missouri\, United States
CATEGORIES:School Open House
ATTACH;FMTTYPE=image/png:https://kcparent.com/wp-content/uploads/2025/11/unnamed-14.png
END:VEVENT
BEGIN:VEVENT
DTSTART;TZID=America/Denver:20250531T100000
DTEND;TZID=America/Denver:20250531T103000
DTSTAMP:20260420T191710
CREATED:20171130T022653Z
LAST-MODIFIED:20250621T165339Z
UID:10001415-1748685600-1748687400@kcparent.com
SUMMARY:Saturday Morning Free Program
DESCRIPTION:A 30-minute free program on nature topics will be presented each day. Programs may include a short video\, slide show and of course going outdoors to enjoy birds\, wildflowers\, bugs or a stroll through the park. All ages are welcome. 
URL:https://kcparent.com/event/saturday-morning-free-program-22/
LOCATION:Summit Christian Academy\, 1510 Southwest Jefferson Street\, Lee's Summit\, Missouri\, United States
CATEGORIES:Accessible,Event,FREE,Indoor,Story Time
END:VEVENT
BEGIN:VEVENT
DTSTART;TZID=America/Denver:20250524T130000
DTEND;TZID=America/Denver:20250524T150000
DTSTAMP:20260420T191710
CREATED:20250424T002507Z
LAST-MODIFIED:20250621T165720Z
UID:10001729-1748091600-1748098800@kcparent.com
SUMMARY:Summer Saturday Art Studio Club
DESCRIPTION:Summer Saturday Art Studio Club at Art Curiosity Studio for kids ages 8-15. Several creative stations will be available each month for the artist to explore and create different art projects to enhance their creativity and skills. Each Summer Art Studio Club session will offer different activities. www.ArtCuriosityStudio.com
URL:https://kcparent.com/event/summer-saturday-art-studio-club/
LOCATION:Summit Christian Academy\, 1510 Southwest Jefferson Street\, Lee's Summit\, Missouri\, United States
CATEGORIES:Accessible
END:VEVENT
BEGIN:VEVENT
DTSTART;TZID=America/Denver:20250228T123000
DTEND;TZID=America/Denver:20250228T153000
DTSTAMP:20260420T191710
CREATED:20250121T183827Z
LAST-MODIFIED:20250621T165340Z
UID:10001417-1740745800-1740756600@kcparent.com
SUMMARY:SCA Campus Visit Day
DESCRIPTION:Summit Christian Academy is recognized as the top private school in the Kansas City area.\n \nIt offers a biblically integrated preschool-to-12th-grade program\, with a college preparatory focus and membership in MSHSAA (Missouri State High School Activities Association).\n\n\n\n \nRSVP Required: Families are encouraged to RSVP by visiting the school’s website: summit-christian-academy.org.
URL:https://kcparent.com/event/sca-campus-visit-day-2/
LOCATION:Summit Christian Academy\, 1510 Southwest Jefferson Street\, Lee's Summit\, Missouri\, United States
CATEGORIES:Accessible
END:VEVENT
BEGIN:VEVENT
DTSTART;TZID=America/Denver:20250124T123000
DTEND;TZID=America/Denver:20250124T153000
DTSTAMP:20260420T191710
CREATED:20250121T183827Z
LAST-MODIFIED:20251124T154242Z
UID:10001416-1737721800-1737732600@kcparent.com
SUMMARY:SCA Campus Visit Day
DESCRIPTION:Summit Christian Academy is recognized as the top private school in the Kansas City area.\n\n\n\n  \n\n\n\nIt offers a biblically integrated preschool-to-12th-grade program\, with a college preparatory focus and membership in MSHSAA (Missouri State High School Activities Association).\n\n\n\n  \n  \nRSVP Required: Families are encouraged to RSVP by visiting the school’s website: summit-christian-academy.org.
URL:https://kcparent.com/event/sca-campus-visit-day/
LOCATION:Summit Christian Academy\, 1510 Southwest Jefferson Street\, Lee's Summit\, Missouri\, United States
CATEGORIES:Accessible
END:VEVENT
BEGIN:VEVENT
DTSTART;TZID=America/Denver:20250124T083000
DTEND;TZID=America/Denver:20250124T103000
DTSTAMP:20260420T191710
CREATED:20250121T183414Z
LAST-MODIFIED:20250621T165341Z
UID:10001418-1737707400-1737714600@kcparent.com
SUMMARY:SCA Kindergarten Preview
DESCRIPTION:Summit Christian Academy is recognized as the top private school in the Kansas City area.\n \nIt offers a biblically integrated preschool-to-12th-grade program\, with a college preparatory focus and membership in MSHSAA (Missouri State High School Activities Association).\n\n\n\n \nRSVP Required: Families are encouraged to RSVP by visiting the school’s website: summit-christian-academy.org.
URL:https://kcparent.com/event/sca-kindergarten-preview/
LOCATION:Summit Christian Academy\, 1510 Southwest Jefferson Street\, Lee's Summit\, Missouri\, United States
CATEGORIES:Accessible
END:VEVENT
END:VCALENDAR