BEGIN:VCALENDAR
VERSION:2.0
PRODID:-//KC Parent - ECPv6.15.18//NONSGML v1.0//EN
CALSCALE:GREGORIAN
METHOD:PUBLISH
X-ORIGINAL-URL:https://kcparent.com
X-WR-CALDESC:Events for KC Parent
REFRESH-INTERVAL;VALUE=DURATION:PT1H
X-Robots-Tag:noindex
X-PUBLISHED-TTL:PT1H
BEGIN:VTIMEZONE
TZID:America/Denver
BEGIN:DAYLIGHT
TZOFFSETFROM:-0700
TZOFFSETTO:-0600
TZNAME:MDT
DTSTART:20250309T090000
END:DAYLIGHT
BEGIN:STANDARD
TZOFFSETFROM:-0600
TZOFFSETTO:-0700
TZNAME:MST
DTSTART:20251102T080000
END:STANDARD
BEGIN:DAYLIGHT
TZOFFSETFROM:-0700
TZOFFSETTO:-0600
TZNAME:MDT
DTSTART:20260308T090000
END:DAYLIGHT
BEGIN:STANDARD
TZOFFSETFROM:-0600
TZOFFSETTO:-0700
TZNAME:MST
DTSTART:20261101T080000
END:STANDARD
BEGIN:DAYLIGHT
TZOFFSETFROM:-0700
TZOFFSETTO:-0600
TZNAME:MDT
DTSTART:20270314T090000
END:DAYLIGHT
BEGIN:STANDARD
TZOFFSETFROM:-0600
TZOFFSETTO:-0700
TZNAME:MST
DTSTART:20271107T080000
END:STANDARD
END:VTIMEZONE
BEGIN:VEVENT
DTSTART;TZID=America/Denver:20260425T120000
DTEND;TZID=America/Denver:20260425T150000
DTSTAMP:20260420T083040
CREATED:20260319T155657Z
LAST-MODIFIED:20260319T193438Z
UID:10024952-1777118400-1777129200@kcparent.com
SUMMARY:Spring Fling
DESCRIPTION:Spring Fling is a community celebration of our parks and our planet at the end of Earth week! This FREE family-friendly event features educational entertainment from Richard Renner\, the Vodvill Klown and Lakeside Nature Center. Attendees will get to learn new habits to help the planet thrive and upcycle trash into crafts from local environmental organizations and community centers. \nActivities include: No-sew T-shirt Tote bags\, see live aquatic macroinvertebrates\, interactive animal habitats\, Magazine Butterflies\, and more! \nEvent Schedule\n12 PM | Richard Renner\, Recycle Show\n1 PM | Green Carpet Fashion Show\n2 PM | Lakeside Nature Center\, Animal Habitats & Conservation \nBranding designed by Afton Lin\, Taffy Studios
URL:https://kcparent.com/event/spring-fling/
LOCATION:Swope Park Bandstand\, 4177 Pavillion Rd \, Kansas City\, Missouri\, 64132\, United States
CATEGORIES:FREE
ATTACH;FMTTYPE=image/png:https://kcparent.com/wp-content/uploads/2026/03/Spring-Fling-KC-Parent-Ad-4.85-x-4.85-in.png
END:VEVENT
END:VCALENDAR