BEGIN:VCALENDAR
VERSION:2.0
PRODID:-//KC Parent - ECPv6.15.18//NONSGML v1.0//EN
CALSCALE:GREGORIAN
METHOD:PUBLISH
X-WR-CALNAME:KC Parent
X-ORIGINAL-URL:https://kcparent.com
X-WR-CALDESC:Events for KC Parent
REFRESH-INTERVAL;VALUE=DURATION:PT1H
X-Robots-Tag:noindex
X-PUBLISHED-TTL:PT1H
BEGIN:VTIMEZONE
TZID:America/Denver
BEGIN:DAYLIGHT
TZOFFSETFROM:-0700
TZOFFSETTO:-0600
TZNAME:MDT
DTSTART:20240310T090000
END:DAYLIGHT
BEGIN:STANDARD
TZOFFSETFROM:-0600
TZOFFSETTO:-0700
TZNAME:MST
DTSTART:20241103T080000
END:STANDARD
BEGIN:DAYLIGHT
TZOFFSETFROM:-0700
TZOFFSETTO:-0600
TZNAME:MDT
DTSTART:20250309T090000
END:DAYLIGHT
BEGIN:STANDARD
TZOFFSETFROM:-0600
TZOFFSETTO:-0700
TZNAME:MST
DTSTART:20251102T080000
END:STANDARD
BEGIN:DAYLIGHT
TZOFFSETFROM:-0700
TZOFFSETTO:-0600
TZNAME:MDT
DTSTART:20260308T090000
END:DAYLIGHT
BEGIN:STANDARD
TZOFFSETFROM:-0600
TZOFFSETTO:-0700
TZNAME:MST
DTSTART:20261101T080000
END:STANDARD
END:VTIMEZONE
BEGIN:VEVENT
DTSTART;TZID=America/Denver:20251213T093000
DTEND;TZID=America/Denver:20251213T123000
DTSTAMP:20260419T202214
CREATED:20251125T174851Z
LAST-MODIFIED:20251125T174851Z
UID:10016831-1765618200-1765629000@kcparent.com
SUMMARY:Whoville Holiday Feast: A Grinchy Cooking Class
DESCRIPTION:Whoville Holiday Feast: A Grinchy Cooking Class (with a hot chocolate bar!)\nHands-On | Tastings | Take-Home Snacks and Mini-Trifles \n 
URL:https://kcparent.com/event/whoville-holiday-feast-a-grinchy-cooking-class/
LOCATION:The Culinary Center of Kansas City\, 7920 Santa Fe Drive\, Overland Park\, 66204
ATTACH;FMTTYPE=image/jpeg:https://kcparent.com/wp-content/uploads/2025/11/k_Edit_2022-11-Grinch-Punch_grinch_punch_vet9jb.jpg
END:VEVENT
BEGIN:VEVENT
DTSTART;TZID=America/Denver:20251031T100000
DTEND;TZID=America/Denver:20251031T130000
DTSTAMP:20260419T202214
CREATED:20251027T182710Z
LAST-MODIFIED:20251029T213217Z
UID:10015990-1761904800-1761915600@kcparent.com
SUMMARY:Creepy Confections: A Halloween Baking Party
DESCRIPTION:Conjure up some deliciously eerie delights in this spooky sweet treat class! Perfect for Halloween enthusiasts and dessert lovers alike\, this hands-on and demo baking adventure will teach you to create two hauntingly good confections. Your guide is Executive Pastry Chef Catie Wiley\, who joins us after a distinguished career as a pastry chef at several iconic patisseries and restaurants on the East Coast. \nChef Catie will start you off with Blood-Red Velvet Cupcakes. You will master the art of creating rich\, velvety cupcakes topped with cream cheese frosting and a spine-chilling “shattered glass” decoration that’s as impressive as it is tasty. Any Halloween fan will recognize this next one: Hocus Pocus Spell Book Brownies. Bring the magic of cinema to your kitchen as we craft rich\, fudgy brownies transformed into miniature replicas of the iconic spell book from the beloved Halloween film. Catie will guide you on brownie decorating with a variety of Royal Icing options. In this 3-hour class\, you’ll learn essential baking techniques\, decorating skills\, and flavor combinations that will elevate your dessert game. \nBy the end of class\, you’ll have spellbinding treats to enjoy or share (if you dare). Whether you’re planning a Halloween party or simply want to indulge your sweet tooth with a twist\, this class promises a hauntingly good time.
URL:https://kcparent.com/event/creepy-confections-a-halloween-baking-party/
LOCATION:The Culinary Center of Kansas City\, 7920 Santa Fe Drive\, Overland Park\, 66204
CATEGORIES:Class or Workshop
ATTACH;FMTTYPE=image/png:https://kcparent.com/wp-content/uploads/2025/10/Screenshot-2025-10-27-at-12.51.44-PM.png
END:VEVENT
END:VCALENDAR