BEGIN:VCALENDAR
VERSION:2.0
PRODID:-//KC Parent - ECPv6.15.18//NONSGML v1.0//EN
CALSCALE:GREGORIAN
METHOD:PUBLISH
X-WR-CALNAME:KC Parent
X-ORIGINAL-URL:https://kcparent.com
X-WR-CALDESC:Events for KC Parent
REFRESH-INTERVAL;VALUE=DURATION:PT1H
X-Robots-Tag:noindex
X-PUBLISHED-TTL:PT1H
BEGIN:VTIMEZONE
TZID:America/Denver
BEGIN:DAYLIGHT
TZOFFSETFROM:-0700
TZOFFSETTO:-0600
TZNAME:MDT
DTSTART:20240310T090000
END:DAYLIGHT
BEGIN:STANDARD
TZOFFSETFROM:-0600
TZOFFSETTO:-0700
TZNAME:MST
DTSTART:20241103T080000
END:STANDARD
BEGIN:DAYLIGHT
TZOFFSETFROM:-0700
TZOFFSETTO:-0600
TZNAME:MDT
DTSTART:20250309T090000
END:DAYLIGHT
BEGIN:STANDARD
TZOFFSETFROM:-0600
TZOFFSETTO:-0700
TZNAME:MST
DTSTART:20251102T080000
END:STANDARD
BEGIN:DAYLIGHT
TZOFFSETFROM:-0700
TZOFFSETTO:-0600
TZNAME:MDT
DTSTART:20260308T090000
END:DAYLIGHT
BEGIN:STANDARD
TZOFFSETFROM:-0600
TZOFFSETTO:-0700
TZNAME:MST
DTSTART:20261101T080000
END:STANDARD
END:VTIMEZONE
BEGIN:VEVENT
DTSTART;TZID=America/Denver:20251108T120000
DTEND;TZID=America/Denver:20251108T160000
DTSTAMP:20260420T143439
CREATED:20251024T220144Z
LAST-MODIFIED:20251027T144224Z
UID:10015857-1762603200-1762617600@kcparent.com
SUMMARY:Pumpkin Smash
DESCRIPTION:Did you know that pumpkins take up a lot of resources to grow and often end up in landfills? This creates greenhouse gases that warm our planet when they could be nourishing the soil instead! Let’s keep those pumpkins out of the landfill—smash them to bits and send them to have a new life in the soil as nutrient-rich compost!
URL:https://kcparent.com/event/pumpkin-smash/
LOCATION:Urbavore Urban Farm\, 5500 Bennington Ave.\, Kansas City\, Missouri\, 64119\, United States
CATEGORIES:FREE
ATTACH;FMTTYPE=image/jpeg:https://kcparent.com/wp-content/uploads/2025/10/Untitled-design.jpg
END:VEVENT
END:VCALENDAR