BEGIN:VCALENDAR
VERSION:2.0
PRODID:-//KC Parent - ECPv6.15.18//NONSGML v1.0//EN
CALSCALE:GREGORIAN
METHOD:PUBLISH
X-ORIGINAL-URL:https://kcparent.com
X-WR-CALDESC:Events for KC Parent
REFRESH-INTERVAL;VALUE=DURATION:PT1H
X-Robots-Tag:noindex
X-PUBLISHED-TTL:PT1H
BEGIN:VTIMEZONE
TZID:America/Denver
BEGIN:DAYLIGHT
TZOFFSETFROM:-0700
TZOFFSETTO:-0600
TZNAME:MDT
DTSTART:20250309T090000
END:DAYLIGHT
BEGIN:STANDARD
TZOFFSETFROM:-0600
TZOFFSETTO:-0700
TZNAME:MST
DTSTART:20251102T080000
END:STANDARD
BEGIN:DAYLIGHT
TZOFFSETFROM:-0700
TZOFFSETTO:-0600
TZNAME:MDT
DTSTART:20260308T090000
END:DAYLIGHT
BEGIN:STANDARD
TZOFFSETFROM:-0600
TZOFFSETTO:-0700
TZNAME:MST
DTSTART:20261101T080000
END:STANDARD
BEGIN:DAYLIGHT
TZOFFSETFROM:-0700
TZOFFSETTO:-0600
TZNAME:MDT
DTSTART:20270314T090000
END:DAYLIGHT
BEGIN:STANDARD
TZOFFSETFROM:-0600
TZOFFSETTO:-0700
TZNAME:MST
DTSTART:20271107T080000
END:STANDARD
END:VTIMEZONE
BEGIN:VEVENT
DTSTART;TZID=America/Denver:20260608T090000
DTEND;TZID=America/Denver:20260608T200000
DTSTAMP:20260421T112400
CREATED:20260113T173833Z
LAST-MODIFIED:20260114T061945Z
UID:10019388-1780909200-1780948800@kcparent.com
SUMMARY:KidsGig
DESCRIPTION:Looking for an exciting and affordable summer activity for your kids? Westside Family Church invites all children to KidsGiG from June 8-11! For only $5\, kids will enjoy four days of music\, games\, and creative crafts while making new friends and exploring their faith in a high-energy environment. Morning and evening sessions are available at our Lenexa location (WFC Lenexa)\, with an evening session available at our Speedway location (WFC Speedway). Open to the community! Visit www.westsidefamily.church/kidsgig for more details and to register.
URL:https://kcparent.com/event/kidsgig/
LOCATION:Westside Family Church\,  Woodsonia Drive\, 66227
CATEGORIES:Vacation Bible School
ATTACH;FMTTYPE=image/png:https://kcparent.com/wp-content/uploads/2026/01/KidsGiG-Event_Graphic__optimized_250.png
END:VEVENT
BEGIN:VEVENT
DTSTART;TZID=America/Denver:20260624T180000
DTEND;TZID=America/Denver:20260626T210000
DTSTAMP:20260421T112400
CREATED:20260306T213855Z
LAST-MODIFIED:20260316T205210Z
UID:10024423-1782324000-1782507600@kcparent.com
SUMMARY:ONE Conference 2026
DESCRIPTION:Calling all students! Join us June 24-26 for One Conference 2026—a transformative 2.5-day event at Westside Family Church’s Lenexa location. Based on Romans 12:2\, we’re challenging students to shift away from the world’s mold and into the renewed life Jesus offers. Through powerful worship\, impactful messages\, and authentic community\, students will discover what it means to move from conformity to clarity\, purpose\, and freedom. Whether you’re taking your first step with Jesus or going deeper in your faith\, this summer experience is designed for you. Bring your friends! \nWhen: June 24-26\, 2026\nWednesday: 6-9P | Thursday & Friday: 9A-9P \nWhere: Westside Family Church – Lenexa \nRegistration: $75 (March 5 – May 15) | $100 (May 16 – June 24) \nhttps://www.westsidefamily.church/one-conference
URL:https://kcparent.com/event/one-conference-2026/
LOCATION:Westside Family Church\,  Woodsonia Drive\, 66227
CATEGORIES:Event
ATTACH;FMTTYPE=image/png:https://kcparent.com/wp-content/uploads/2026/03/Shift-Digital_Signage_optimized_250.png
END:VEVENT
END:VCALENDAR