BEGIN:VCALENDAR
VERSION:2.0
PRODID:-//KC Parent - ECPv6.15.18//NONSGML v1.0//EN
CALSCALE:GREGORIAN
METHOD:PUBLISH
X-WR-CALNAME:KC Parent
X-ORIGINAL-URL:https://kcparent.com
X-WR-CALDESC:Events for KC Parent
REFRESH-INTERVAL;VALUE=DURATION:PT1H
X-Robots-Tag:noindex
X-PUBLISHED-TTL:PT1H
BEGIN:VTIMEZONE
TZID:America/Denver
BEGIN:DAYLIGHT
TZOFFSETFROM:-0700
TZOFFSETTO:-0600
TZNAME:MDT
DTSTART:20250309T090000
END:DAYLIGHT
BEGIN:STANDARD
TZOFFSETFROM:-0600
TZOFFSETTO:-0700
TZNAME:MST
DTSTART:20251102T080000
END:STANDARD
BEGIN:DAYLIGHT
TZOFFSETFROM:-0700
TZOFFSETTO:-0600
TZNAME:MDT
DTSTART:20260308T090000
END:DAYLIGHT
BEGIN:STANDARD
TZOFFSETFROM:-0600
TZOFFSETTO:-0700
TZNAME:MST
DTSTART:20261101T080000
END:STANDARD
BEGIN:DAYLIGHT
TZOFFSETFROM:-0700
TZOFFSETTO:-0600
TZNAME:MDT
DTSTART:20270314T090000
END:DAYLIGHT
BEGIN:STANDARD
TZOFFSETFROM:-0600
TZOFFSETTO:-0700
TZNAME:MST
DTSTART:20271107T080000
END:STANDARD
END:VTIMEZONE
BEGIN:VEVENT
DTSTART;TZID=America/Denver:20260509T100000
DTEND;TZID=America/Denver:20260509T160000
DTSTAMP:20260419T204501
CREATED:20260331T153907Z
LAST-MODIFIED:20260403T144208Z
UID:10025024-1778320800-1778342400@kcparent.com
SUMMARY:Wildwood Open House
DESCRIPTION:Take a shot at archery\, go fishing for bass and crappie (catch and release)\, walk through the cabins and woods\, check out the treehouse\, and relax by the campfire. \nOh\, and did I mention our goats? We’ll have treats available to feed our four furry friends: Ottis\, Oakley\, Oatmeal\, and Orchard! \nArchery- $5 for 5 arrows\nFishing- FREE\nS’mores pack of 2- $2\nHiking-FREE\nFeeding goats- FREE\nWater\, soda\, and light snacks available for purchase. Bring lunch and enjoy a picnic at the pavilion!
URL:https://kcparent.com/event/wildwood-open-house/
LOCATION:Wildwood Outdoor Education Center\, 7095 W 399th St\, La Cygne\, Kansas\, 66040\, United States
CATEGORIES:Outdoor
ATTACH;FMTTYPE=image/jpeg:https://kcparent.com/wp-content/uploads/2026/03/Goats-Pic.jpg
END:VEVENT
END:VCALENDAR