BEGIN:VCALENDAR
VERSION:2.0
PRODID:-//KC Parent - ECPv6.15.18//NONSGML v1.0//EN
CALSCALE:GREGORIAN
METHOD:PUBLISH
X-WR-CALNAME:KC Parent
X-ORIGINAL-URL:https://kcparent.com
X-WR-CALDESC:Events for KC Parent
REFRESH-INTERVAL;VALUE=DURATION:PT1H
X-Robots-Tag:noindex
X-PUBLISHED-TTL:PT1H
BEGIN:VTIMEZONE
TZID:America/Denver
BEGIN:DAYLIGHT
TZOFFSETFROM:-0700
TZOFFSETTO:-0600
TZNAME:MDT
DTSTART:20250309T090000
END:DAYLIGHT
BEGIN:STANDARD
TZOFFSETFROM:-0600
TZOFFSETTO:-0700
TZNAME:MST
DTSTART:20251102T080000
END:STANDARD
BEGIN:DAYLIGHT
TZOFFSETFROM:-0700
TZOFFSETTO:-0600
TZNAME:MDT
DTSTART:20260308T090000
END:DAYLIGHT
BEGIN:STANDARD
TZOFFSETFROM:-0600
TZOFFSETTO:-0700
TZNAME:MST
DTSTART:20261101T080000
END:STANDARD
BEGIN:DAYLIGHT
TZOFFSETFROM:-0700
TZOFFSETTO:-0600
TZNAME:MDT
DTSTART:20270314T090000
END:DAYLIGHT
BEGIN:STANDARD
TZOFFSETFROM:-0600
TZOFFSETTO:-0700
TZNAME:MST
DTSTART:20271107T080000
END:STANDARD
END:VTIMEZONE
BEGIN:VEVENT
DTSTART;VALUE=DATE:20260417
DTEND;VALUE=DATE:20260418
DTSTAMP:20260420T102013
CREATED:20250818T134955Z
LAST-MODIFIED:20250818T134955Z
UID:10011714-1776384000-1776470399@kcparent.com
SUMMARY:Children’s Mercy Science Friday
DESCRIPTION:A team of scientists from Children’s Mercy’s Research Institute will lead our friends in exciting scientific exploration in an approachable\, relatable and age-appropriate way. Program begins at 3pm in the Design Lab.  Free with admission or membership.
URL:https://kcparent.com/event/childrens-mercy-science-friday-2/2026-04-17/
LOCATION:The Regnier Family Wonderscope Museum of Kansas City\, 433 East Red Bridge Road\, Kansas City\, Missouri\, United States
CATEGORIES:Class or Workshop,Indoor
ATTACH;FMTTYPE=image/png:https://kcparent.com/wp-content/uploads/2025/08/Screenshot-2025-08-18-at-8.49.02-AM.png
END:VEVENT
BEGIN:VEVENT
DTSTART;TZID=America/Denver:20260416T140000
DTEND;TZID=America/Denver:20260416T150000
DTSTAMP:20260420T102013
CREATED:20250825T140200Z
LAST-MODIFIED:20250827T145302Z
UID:10013805-1776348000-1776351600@kcparent.com
SUMMARY:WonderBaby & Me
DESCRIPTION:Weekly class for infants 3–18 months and their grown-ups\, too! Register at Wonderscope.org
URL:https://kcparent.com/event/wonderbaby-me-2/2026-04-16/
LOCATION:The Regnier Family Wonderscope Museum of Kansas City\, 433 East Red Bridge Road\, Kansas City\, Missouri\, United States
ATTACH;FMTTYPE=image/webp:https://kcparent.com/wp-content/uploads/2025/08/Wonder-Baby-Program-Page.webp
END:VEVENT
BEGIN:VEVENT
DTSTART;TZID=America/Denver:20260416T093000
DTEND;TZID=America/Denver:20260416T103000
DTSTAMP:20260420T102013
CREATED:20250825T140041Z
LAST-MODIFIED:20250827T145409Z
UID:10013734-1776331800-1776335400@kcparent.com
SUMMARY:WonderBaby & Me
DESCRIPTION:Weekly class for infants 3–18 months and their grown-ups\, too! Register at Wonderscope.org
URL:https://kcparent.com/event/wonderbaby-me/2026-04-16/
LOCATION:The Regnier Family Wonderscope Museum of Kansas City\, 433 East Red Bridge Road\, Kansas City\, Missouri\, United States
ATTACH;FMTTYPE=image/webp:https://kcparent.com/wp-content/uploads/2025/08/Wonder-Baby-Program-Page.webp
END:VEVENT
BEGIN:VEVENT
DTSTART;TZID=America/Denver:20260409T140000
DTEND;TZID=America/Denver:20260409T150000
DTSTAMP:20260420T102013
CREATED:20250825T140200Z
LAST-MODIFIED:20250827T145302Z
UID:10013804-1775743200-1775746800@kcparent.com
SUMMARY:WonderBaby & Me
DESCRIPTION:Weekly class for infants 3–18 months and their grown-ups\, too! Register at Wonderscope.org
URL:https://kcparent.com/event/wonderbaby-me-2/2026-04-09/
LOCATION:The Regnier Family Wonderscope Museum of Kansas City\, 433 East Red Bridge Road\, Kansas City\, Missouri\, United States
ATTACH;FMTTYPE=image/webp:https://kcparent.com/wp-content/uploads/2025/08/Wonder-Baby-Program-Page.webp
END:VEVENT
BEGIN:VEVENT
DTSTART;TZID=America/Denver:20260409T093000
DTEND;TZID=America/Denver:20260409T103000
DTSTAMP:20260420T102013
CREATED:20250825T140041Z
LAST-MODIFIED:20250827T145409Z
UID:10013733-1775727000-1775730600@kcparent.com
SUMMARY:WonderBaby & Me
DESCRIPTION:Weekly class for infants 3–18 months and their grown-ups\, too! Register at Wonderscope.org
URL:https://kcparent.com/event/wonderbaby-me/2026-04-09/
LOCATION:The Regnier Family Wonderscope Museum of Kansas City\, 433 East Red Bridge Road\, Kansas City\, Missouri\, United States
ATTACH;FMTTYPE=image/webp:https://kcparent.com/wp-content/uploads/2025/08/Wonder-Baby-Program-Page.webp
END:VEVENT
BEGIN:VEVENT
DTSTART;TZID=America/Denver:20260402T140000
DTEND;TZID=America/Denver:20260402T150000
DTSTAMP:20260420T102013
CREATED:20250825T140200Z
LAST-MODIFIED:20250827T145302Z
UID:10013803-1775138400-1775142000@kcparent.com
SUMMARY:WonderBaby & Me
DESCRIPTION:Weekly class for infants 3–18 months and their grown-ups\, too! Register at Wonderscope.org
URL:https://kcparent.com/event/wonderbaby-me-2/2026-04-02/
LOCATION:The Regnier Family Wonderscope Museum of Kansas City\, 433 East Red Bridge Road\, Kansas City\, Missouri\, United States
ATTACH;FMTTYPE=image/webp:https://kcparent.com/wp-content/uploads/2025/08/Wonder-Baby-Program-Page.webp
END:VEVENT
BEGIN:VEVENT
DTSTART;TZID=America/Denver:20260402T093000
DTEND;TZID=America/Denver:20260402T103000
DTSTAMP:20260420T102013
CREATED:20250825T140041Z
LAST-MODIFIED:20250827T145409Z
UID:10013732-1775122200-1775125800@kcparent.com
SUMMARY:WonderBaby & Me
DESCRIPTION:Weekly class for infants 3–18 months and their grown-ups\, too! Register at Wonderscope.org
URL:https://kcparent.com/event/wonderbaby-me/2026-04-02/
LOCATION:The Regnier Family Wonderscope Museum of Kansas City\, 433 East Red Bridge Road\, Kansas City\, Missouri\, United States
ATTACH;FMTTYPE=image/webp:https://kcparent.com/wp-content/uploads/2025/08/Wonder-Baby-Program-Page.webp
END:VEVENT
BEGIN:VEVENT
DTSTART;TZID=America/Denver:20260328T183000
DTEND;TZID=America/Denver:20260328T220000
DTSTAMP:20260420T102013
CREATED:20260204T162448Z
LAST-MODIFIED:20260209T161411Z
UID:10021932-1774722600-1774735200@kcparent.com
SUMMARY:Trivia Night
DESCRIPTION:Wonderscope is transforming into the ultimate adult battleground of knowledge for Trivia Night 2026. This isn’t just any trivia night; it’s an opportunity to unleash your inner trivia master while supporting a Wonder-ful cause! All proceeds from the trivia night will go into the Wonderscope Wonder Fund\, providing underserved families access to discounted tickets\, memberships\, field trips\, and more\, ensuring that every child has the chance to learn\, play\, and grow with us. Snacks and drinks are all included! Tickets are $75 per person. Tickets\, tables\, and sponsorships are available now.
URL:https://kcparent.com/event/trivia-night/
LOCATION:The Regnier Family Wonderscope Museum of Kansas City\, 433 East Red Bridge Road\, Kansas City\, Missouri\, United States
CATEGORIES:Event
ATTACH;FMTTYPE=image/png:https://kcparent.com/wp-content/uploads/2026/02/Trivia-Night-2026-2.png
END:VEVENT
BEGIN:VEVENT
DTSTART;TZID=America/Denver:20260326T140000
DTEND;TZID=America/Denver:20260326T150000
DTSTAMP:20260420T102013
CREATED:20250825T140200Z
LAST-MODIFIED:20250827T145302Z
UID:10013802-1774533600-1774537200@kcparent.com
SUMMARY:WonderBaby & Me
DESCRIPTION:Weekly class for infants 3–18 months and their grown-ups\, too! Register at Wonderscope.org
URL:https://kcparent.com/event/wonderbaby-me-2/2026-03-26/
LOCATION:The Regnier Family Wonderscope Museum of Kansas City\, 433 East Red Bridge Road\, Kansas City\, Missouri\, United States
ATTACH;FMTTYPE=image/webp:https://kcparent.com/wp-content/uploads/2025/08/Wonder-Baby-Program-Page.webp
END:VEVENT
BEGIN:VEVENT
DTSTART;TZID=America/Denver:20260326T093000
DTEND;TZID=America/Denver:20260326T103000
DTSTAMP:20260420T102013
CREATED:20250825T140041Z
LAST-MODIFIED:20250827T145409Z
UID:10013731-1774517400-1774521000@kcparent.com
SUMMARY:WonderBaby & Me
DESCRIPTION:Weekly class for infants 3–18 months and their grown-ups\, too! Register at Wonderscope.org
URL:https://kcparent.com/event/wonderbaby-me/2026-03-26/
LOCATION:The Regnier Family Wonderscope Museum of Kansas City\, 433 East Red Bridge Road\, Kansas City\, Missouri\, United States
ATTACH;FMTTYPE=image/webp:https://kcparent.com/wp-content/uploads/2025/08/Wonder-Baby-Program-Page.webp
END:VEVENT
BEGIN:VEVENT
DTSTART;TZID=America/Denver:20260320T100000
DTEND;TZID=America/Denver:20260320T150000
DTSTAMP:20260420T102013
CREATED:20260317T222549Z
LAST-MODIFIED:20260317T222549Z
UID:10024429-1774000800-1774018800@kcparent.com
SUMMARY:The Weinermobile at Wonderscope
DESCRIPTION:🌭 Hot-diggity-dog! The Weinermobile is rolling into Wonderscope! Join us on Friday\, March 20\, from 10 AM to 3 PM for a chance to see this iconic vehicle up close. 🌭 After checking out the Weinermobile\, don’t forget to head inside with the kids for a day full of fun and exciting activities! We can’t wait to see you there! 🎈 #Wonderscope #Weinermobile #FamilyFun
URL:https://kcparent.com/event/the-weinermobile-at-wonderscope/
LOCATION:The Regnier Family Wonderscope Museum of Kansas City\, 433 East Red Bridge Road\, Kansas City\, Missouri\, United States
ATTACH;FMTTYPE=image/png:https://kcparent.com/wp-content/uploads/2026/03/Screenshot-2026-03-17-at-5.22.14-PM.png
END:VEVENT
BEGIN:VEVENT
DTSTART;VALUE=DATE:20260320
DTEND;VALUE=DATE:20260321
DTSTAMP:20260420T102013
CREATED:20250818T134955Z
LAST-MODIFIED:20250818T134955Z
UID:10011713-1773964800-1774051199@kcparent.com
SUMMARY:Children’s Mercy Science Friday
DESCRIPTION:A team of scientists from Children’s Mercy’s Research Institute will lead our friends in exciting scientific exploration in an approachable\, relatable and age-appropriate way. Program begins at 3pm in the Design Lab.  Free with admission or membership.
URL:https://kcparent.com/event/childrens-mercy-science-friday-2/2026-03-20/
LOCATION:The Regnier Family Wonderscope Museum of Kansas City\, 433 East Red Bridge Road\, Kansas City\, Missouri\, United States
CATEGORIES:Class or Workshop,Indoor
ATTACH;FMTTYPE=image/png:https://kcparent.com/wp-content/uploads/2025/08/Screenshot-2025-08-18-at-8.49.02-AM.png
END:VEVENT
BEGIN:VEVENT
DTSTART;TZID=America/Denver:20260319T140000
DTEND;TZID=America/Denver:20260319T150000
DTSTAMP:20260420T102013
CREATED:20250825T140200Z
LAST-MODIFIED:20250827T145302Z
UID:10013801-1773928800-1773932400@kcparent.com
SUMMARY:WonderBaby & Me
DESCRIPTION:Weekly class for infants 3–18 months and their grown-ups\, too! Register at Wonderscope.org
URL:https://kcparent.com/event/wonderbaby-me-2/2026-03-19/
LOCATION:The Regnier Family Wonderscope Museum of Kansas City\, 433 East Red Bridge Road\, Kansas City\, Missouri\, United States
ATTACH;FMTTYPE=image/webp:https://kcparent.com/wp-content/uploads/2025/08/Wonder-Baby-Program-Page.webp
END:VEVENT
BEGIN:VEVENT
DTSTART;TZID=America/Denver:20260319T093000
DTEND;TZID=America/Denver:20260319T103000
DTSTAMP:20260420T102013
CREATED:20250825T140041Z
LAST-MODIFIED:20250827T145409Z
UID:10013730-1773912600-1773916200@kcparent.com
SUMMARY:WonderBaby & Me
DESCRIPTION:Weekly class for infants 3–18 months and their grown-ups\, too! Register at Wonderscope.org
URL:https://kcparent.com/event/wonderbaby-me/2026-03-19/
LOCATION:The Regnier Family Wonderscope Museum of Kansas City\, 433 East Red Bridge Road\, Kansas City\, Missouri\, United States
ATTACH;FMTTYPE=image/webp:https://kcparent.com/wp-content/uploads/2025/08/Wonder-Baby-Program-Page.webp
END:VEVENT
BEGIN:VEVENT
DTSTART;TZID=America/Denver:20260312T140000
DTEND;TZID=America/Denver:20260312T150000
DTSTAMP:20260420T102013
CREATED:20250825T140200Z
LAST-MODIFIED:20250827T145302Z
UID:10013800-1773324000-1773327600@kcparent.com
SUMMARY:WonderBaby & Me
DESCRIPTION:Weekly class for infants 3–18 months and their grown-ups\, too! Register at Wonderscope.org
URL:https://kcparent.com/event/wonderbaby-me-2/2026-03-12/
LOCATION:The Regnier Family Wonderscope Museum of Kansas City\, 433 East Red Bridge Road\, Kansas City\, Missouri\, United States
ATTACH;FMTTYPE=image/webp:https://kcparent.com/wp-content/uploads/2025/08/Wonder-Baby-Program-Page.webp
END:VEVENT
BEGIN:VEVENT
DTSTART;TZID=America/Denver:20260312T093000
DTEND;TZID=America/Denver:20260312T103000
DTSTAMP:20260420T102013
CREATED:20250825T140041Z
LAST-MODIFIED:20250827T145409Z
UID:10013729-1773307800-1773311400@kcparent.com
SUMMARY:WonderBaby & Me
DESCRIPTION:Weekly class for infants 3–18 months and their grown-ups\, too! Register at Wonderscope.org
URL:https://kcparent.com/event/wonderbaby-me/2026-03-12/
LOCATION:The Regnier Family Wonderscope Museum of Kansas City\, 433 East Red Bridge Road\, Kansas City\, Missouri\, United States
ATTACH;FMTTYPE=image/webp:https://kcparent.com/wp-content/uploads/2025/08/Wonder-Baby-Program-Page.webp
END:VEVENT
BEGIN:VEVENT
DTSTART;TZID=America/Denver:20260305T140000
DTEND;TZID=America/Denver:20260305T150000
DTSTAMP:20260420T102013
CREATED:20250825T140200Z
LAST-MODIFIED:20250827T145302Z
UID:10013799-1772719200-1772722800@kcparent.com
SUMMARY:WonderBaby & Me
DESCRIPTION:Weekly class for infants 3–18 months and their grown-ups\, too! Register at Wonderscope.org
URL:https://kcparent.com/event/wonderbaby-me-2/2026-03-05/
LOCATION:The Regnier Family Wonderscope Museum of Kansas City\, 433 East Red Bridge Road\, Kansas City\, Missouri\, United States
ATTACH;FMTTYPE=image/webp:https://kcparent.com/wp-content/uploads/2025/08/Wonder-Baby-Program-Page.webp
END:VEVENT
BEGIN:VEVENT
DTSTART;TZID=America/Denver:20260305T093000
DTEND;TZID=America/Denver:20260305T103000
DTSTAMP:20260420T102013
CREATED:20250825T140041Z
LAST-MODIFIED:20250827T145409Z
UID:10013728-1772703000-1772706600@kcparent.com
SUMMARY:WonderBaby & Me
DESCRIPTION:Weekly class for infants 3–18 months and their grown-ups\, too! Register at Wonderscope.org
URL:https://kcparent.com/event/wonderbaby-me/2026-03-05/
LOCATION:The Regnier Family Wonderscope Museum of Kansas City\, 433 East Red Bridge Road\, Kansas City\, Missouri\, United States
ATTACH;FMTTYPE=image/webp:https://kcparent.com/wp-content/uploads/2025/08/Wonder-Baby-Program-Page.webp
END:VEVENT
BEGIN:VEVENT
DTSTART;TZID=America/Denver:20260226T140000
DTEND;TZID=America/Denver:20260226T150000
DTSTAMP:20260420T102013
CREATED:20250825T140200Z
LAST-MODIFIED:20250827T145302Z
UID:10013798-1772114400-1772118000@kcparent.com
SUMMARY:WonderBaby & Me
DESCRIPTION:Weekly class for infants 3–18 months and their grown-ups\, too! Register at Wonderscope.org
URL:https://kcparent.com/event/wonderbaby-me-2/2026-02-26/
LOCATION:The Regnier Family Wonderscope Museum of Kansas City\, 433 East Red Bridge Road\, Kansas City\, Missouri\, United States
ATTACH;FMTTYPE=image/webp:https://kcparent.com/wp-content/uploads/2025/08/Wonder-Baby-Program-Page.webp
END:VEVENT
BEGIN:VEVENT
DTSTART;TZID=America/Denver:20260226T093000
DTEND;TZID=America/Denver:20260226T103000
DTSTAMP:20260420T102013
CREATED:20250825T140041Z
LAST-MODIFIED:20250827T145409Z
UID:10013727-1772098200-1772101800@kcparent.com
SUMMARY:WonderBaby & Me
DESCRIPTION:Weekly class for infants 3–18 months and their grown-ups\, too! Register at Wonderscope.org
URL:https://kcparent.com/event/wonderbaby-me/2026-02-26/
LOCATION:The Regnier Family Wonderscope Museum of Kansas City\, 433 East Red Bridge Road\, Kansas City\, Missouri\, United States
ATTACH;FMTTYPE=image/webp:https://kcparent.com/wp-content/uploads/2025/08/Wonder-Baby-Program-Page.webp
END:VEVENT
BEGIN:VEVENT
DTSTART;VALUE=DATE:20260220
DTEND;VALUE=DATE:20260221
DTSTAMP:20260420T102013
CREATED:20250818T134955Z
LAST-MODIFIED:20250818T134955Z
UID:10011712-1771545600-1771631999@kcparent.com
SUMMARY:Children’s Mercy Science Friday
DESCRIPTION:A team of scientists from Children’s Mercy’s Research Institute will lead our friends in exciting scientific exploration in an approachable\, relatable and age-appropriate way. Program begins at 3pm in the Design Lab.  Free with admission or membership.
URL:https://kcparent.com/event/childrens-mercy-science-friday-2/2026-02-20/
LOCATION:The Regnier Family Wonderscope Museum of Kansas City\, 433 East Red Bridge Road\, Kansas City\, Missouri\, United States
CATEGORIES:Class or Workshop,Indoor
ATTACH;FMTTYPE=image/png:https://kcparent.com/wp-content/uploads/2025/08/Screenshot-2025-08-18-at-8.49.02-AM.png
END:VEVENT
BEGIN:VEVENT
DTSTART;TZID=America/Denver:20260219T140000
DTEND;TZID=America/Denver:20260219T150000
DTSTAMP:20260420T102013
CREATED:20250825T140200Z
LAST-MODIFIED:20250827T145302Z
UID:10013797-1771509600-1771513200@kcparent.com
SUMMARY:WonderBaby & Me
DESCRIPTION:Weekly class for infants 3–18 months and their grown-ups\, too! Register at Wonderscope.org
URL:https://kcparent.com/event/wonderbaby-me-2/2026-02-19/
LOCATION:The Regnier Family Wonderscope Museum of Kansas City\, 433 East Red Bridge Road\, Kansas City\, Missouri\, United States
ATTACH;FMTTYPE=image/webp:https://kcparent.com/wp-content/uploads/2025/08/Wonder-Baby-Program-Page.webp
END:VEVENT
BEGIN:VEVENT
DTSTART;TZID=America/Denver:20260219T093000
DTEND;TZID=America/Denver:20260219T103000
DTSTAMP:20260420T102013
CREATED:20250825T140041Z
LAST-MODIFIED:20250827T145409Z
UID:10013726-1771493400-1771497000@kcparent.com
SUMMARY:WonderBaby & Me
DESCRIPTION:Weekly class for infants 3–18 months and their grown-ups\, too! Register at Wonderscope.org
URL:https://kcparent.com/event/wonderbaby-me/2026-02-19/
LOCATION:The Regnier Family Wonderscope Museum of Kansas City\, 433 East Red Bridge Road\, Kansas City\, Missouri\, United States
ATTACH;FMTTYPE=image/webp:https://kcparent.com/wp-content/uploads/2025/08/Wonder-Baby-Program-Page.webp
END:VEVENT
BEGIN:VEVENT
DTSTART;TZID=America/Denver:20260212T140000
DTEND;TZID=America/Denver:20260212T150000
DTSTAMP:20260420T102013
CREATED:20250825T140200Z
LAST-MODIFIED:20250827T145302Z
UID:10013796-1770904800-1770908400@kcparent.com
SUMMARY:WonderBaby & Me
DESCRIPTION:Weekly class for infants 3–18 months and their grown-ups\, too! Register at Wonderscope.org
URL:https://kcparent.com/event/wonderbaby-me-2/2026-02-12/
LOCATION:The Regnier Family Wonderscope Museum of Kansas City\, 433 East Red Bridge Road\, Kansas City\, Missouri\, United States
ATTACH;FMTTYPE=image/webp:https://kcparent.com/wp-content/uploads/2025/08/Wonder-Baby-Program-Page.webp
END:VEVENT
BEGIN:VEVENT
DTSTART;TZID=America/Denver:20260212T093000
DTEND;TZID=America/Denver:20260212T103000
DTSTAMP:20260420T102013
CREATED:20250825T140041Z
LAST-MODIFIED:20250827T145409Z
UID:10013725-1770888600-1770892200@kcparent.com
SUMMARY:WonderBaby & Me
DESCRIPTION:Weekly class for infants 3–18 months and their grown-ups\, too! Register at Wonderscope.org
URL:https://kcparent.com/event/wonderbaby-me/2026-02-12/
LOCATION:The Regnier Family Wonderscope Museum of Kansas City\, 433 East Red Bridge Road\, Kansas City\, Missouri\, United States
ATTACH;FMTTYPE=image/webp:https://kcparent.com/wp-content/uploads/2025/08/Wonder-Baby-Program-Page.webp
END:VEVENT
BEGIN:VEVENT
DTSTART;TZID=America/Denver:20260205T140000
DTEND;TZID=America/Denver:20260205T150000
DTSTAMP:20260420T102013
CREATED:20250825T140200Z
LAST-MODIFIED:20250827T145302Z
UID:10013795-1770300000-1770303600@kcparent.com
SUMMARY:WonderBaby & Me
DESCRIPTION:Weekly class for infants 3–18 months and their grown-ups\, too! Register at Wonderscope.org
URL:https://kcparent.com/event/wonderbaby-me-2/2026-02-05/
LOCATION:The Regnier Family Wonderscope Museum of Kansas City\, 433 East Red Bridge Road\, Kansas City\, Missouri\, United States
ATTACH;FMTTYPE=image/webp:https://kcparent.com/wp-content/uploads/2025/08/Wonder-Baby-Program-Page.webp
END:VEVENT
BEGIN:VEVENT
DTSTART;TZID=America/Denver:20260205T093000
DTEND;TZID=America/Denver:20260205T103000
DTSTAMP:20260420T102013
CREATED:20250825T140041Z
LAST-MODIFIED:20250827T145409Z
UID:10013724-1770283800-1770287400@kcparent.com
SUMMARY:WonderBaby & Me
DESCRIPTION:Weekly class for infants 3–18 months and their grown-ups\, too! Register at Wonderscope.org
URL:https://kcparent.com/event/wonderbaby-me/2026-02-05/
LOCATION:The Regnier Family Wonderscope Museum of Kansas City\, 433 East Red Bridge Road\, Kansas City\, Missouri\, United States
ATTACH;FMTTYPE=image/webp:https://kcparent.com/wp-content/uploads/2025/08/Wonder-Baby-Program-Page.webp
END:VEVENT
BEGIN:VEVENT
DTSTART;TZID=America/Denver:20260129T140000
DTEND;TZID=America/Denver:20260129T150000
DTSTAMP:20260420T102013
CREATED:20250825T140200Z
LAST-MODIFIED:20250827T145302Z
UID:10013794-1769695200-1769698800@kcparent.com
SUMMARY:WonderBaby & Me
DESCRIPTION:Weekly class for infants 3–18 months and their grown-ups\, too! Register at Wonderscope.org
URL:https://kcparent.com/event/wonderbaby-me-2/2026-01-29/
LOCATION:The Regnier Family Wonderscope Museum of Kansas City\, 433 East Red Bridge Road\, Kansas City\, Missouri\, United States
ATTACH;FMTTYPE=image/webp:https://kcparent.com/wp-content/uploads/2025/08/Wonder-Baby-Program-Page.webp
END:VEVENT
BEGIN:VEVENT
DTSTART;TZID=America/Denver:20260129T093000
DTEND;TZID=America/Denver:20260129T103000
DTSTAMP:20260420T102013
CREATED:20250825T140041Z
LAST-MODIFIED:20250827T145409Z
UID:10013723-1769679000-1769682600@kcparent.com
SUMMARY:WonderBaby & Me
DESCRIPTION:Weekly class for infants 3–18 months and their grown-ups\, too! Register at Wonderscope.org
URL:https://kcparent.com/event/wonderbaby-me/2026-01-29/
LOCATION:The Regnier Family Wonderscope Museum of Kansas City\, 433 East Red Bridge Road\, Kansas City\, Missouri\, United States
ATTACH;FMTTYPE=image/webp:https://kcparent.com/wp-content/uploads/2025/08/Wonder-Baby-Program-Page.webp
END:VEVENT
BEGIN:VEVENT
DTSTART;TZID=America/Denver:20260122T140000
DTEND;TZID=America/Denver:20260122T150000
DTSTAMP:20260420T102013
CREATED:20250825T140200Z
LAST-MODIFIED:20250827T145302Z
UID:10013793-1769090400-1769094000@kcparent.com
SUMMARY:WonderBaby & Me
DESCRIPTION:Weekly class for infants 3–18 months and their grown-ups\, too! Register at Wonderscope.org
URL:https://kcparent.com/event/wonderbaby-me-2/2026-01-22/
LOCATION:The Regnier Family Wonderscope Museum of Kansas City\, 433 East Red Bridge Road\, Kansas City\, Missouri\, United States
ATTACH;FMTTYPE=image/webp:https://kcparent.com/wp-content/uploads/2025/08/Wonder-Baby-Program-Page.webp
END:VEVENT
END:VCALENDAR